BEGIN:VCALENDAR
VERSION:2.0
PRODID:-//Elements Barre Fit - ECPv6.15.20//NONSGML v1.0//EN
CALSCALE:GREGORIAN
METHOD:PUBLISH
X-ORIGINAL-URL:https://elementsbarrefit.com
X-WR-CALDESC:Events for Elements Barre Fit
REFRESH-INTERVAL;VALUE=DURATION:PT1H
X-Robots-Tag:noindex
X-PUBLISHED-TTL:PT1H
BEGIN:VTIMEZONE
TZID:America/New_York
BEGIN:DAYLIGHT
TZOFFSETFROM:-0500
TZOFFSETTO:-0400
TZNAME:EDT
DTSTART:20230312T070000
END:DAYLIGHT
BEGIN:STANDARD
TZOFFSETFROM:-0400
TZOFFSETTO:-0500
TZNAME:EST
DTSTART:20231105T060000
END:STANDARD
BEGIN:DAYLIGHT
TZOFFSETFROM:-0500
TZOFFSETTO:-0400
TZNAME:EDT
DTSTART:20240310T070000
END:DAYLIGHT
BEGIN:STANDARD
TZOFFSETFROM:-0400
TZOFFSETTO:-0500
TZNAME:EST
DTSTART:20241103T060000
END:STANDARD
BEGIN:DAYLIGHT
TZOFFSETFROM:-0500
TZOFFSETTO:-0400
TZNAME:EDT
DTSTART:20250309T070000
END:DAYLIGHT
BEGIN:STANDARD
TZOFFSETFROM:-0400
TZOFFSETTO:-0500
TZNAME:EST
DTSTART:20251102T060000
END:STANDARD
END:VTIMEZONE
BEGIN:VEVENT
DTSTART;TZID=America/New_York:20240809T093000
DTEND;TZID=America/New_York:20240809T103000
DTSTAMP:20260422T013817
CREATED:20240723T012008Z
LAST-MODIFIED:20240723T012008Z
UID:12322-1723195800-1723199400@elementsbarrefit.com
SUMMARY:Books and Barre!
DESCRIPTION:In the Hamptons? Join Zibby Owens\, Swan Huntley\, and Andrea Fornarola for Books and Barre! \nPssst! You’ll get a free tote with attendance!
URL:https://elementsbarrefit.com/event/books-and-barre/
LOCATION:Elements Sag Harbor\, 11 Bridge Street\, Sag Harbor\, NY\, 11963\, United States
ATTACH;FMTTYPE=image/png:https://elementsbarrefit.com/wp-content/uploads/2024/07/Barre-Invite-Updated.png
END:VEVENT
BEGIN:VEVENT
DTSTART;TZID=America/New_York:20240820T103000
DTEND;TZID=America/New_York:20240823T120000
DTSTAMP:20260422T013817
CREATED:20240809T130328Z
LAST-MODIFIED:20240813T201640Z
UID:13254-1724149800-1724414400@elementsbarrefit.com
SUMMARY:Diva Kids Dance Party!
DESCRIPTION:Tuesday 8/20\, Wednesday 8/21\, & Thursday 8/22 \n10:30a – 12pm w/ Andrea \nIt’s a Diva Dance Party! \nCalling All Diva Kids! We cordially invite you to Dance It Out with #BarreDiva Andrea at Elements Barre Fit! It’s Andrea’s signature high-energy Dance Cardio class for all ages! Learn fun and energetic choreography and dance technique\, in a fun and sweaty format! There will be a short performance following Thursday class!!! \nSNEAKERS REQUIRED \nRSVP to info@elementsbarrefit.com \nSubject: Diva Dance Party \nRSVP should include: Names of Participants and Parent Phone Number \n$150 for all 3 classes \n$55 for a single class
URL:https://elementsbarrefit.com/event/diva-daughters-dance-party/
LOCATION:Elements Sag Harbor\, 11 Bridge Street\, Sag Harbor\, NY\, 11963\, United States
ATTACH;FMTTYPE=image/jpeg:https://elementsbarrefit.com/wp-content/uploads/2024/08/Diva-Moms-Daughters-Dance-Party-3.jpg
END:VEVENT
BEGIN:VEVENT
DTSTART;TZID=America/New_York:20240827T103000
DTEND;TZID=America/New_York:20240830T120000
DTSTAMP:20260422T013817
CREATED:20240826T121146Z
LAST-MODIFIED:20240826T121146Z
UID:13353-1724754600-1725019200@elementsbarrefit.com
SUMMARY:Diva Kids Dance Party! Part 2
DESCRIPTION:Tuesday 8/27\, Wednesday 8/28\, & Friday 8/30 \n10:30a – 12:00p \nCalling All Diva Kids! We cordially invite you to Dance It Out with #BarreDiva Andrea at Elements Barre Fit! It’s Andrea’s signature high-energy Dance Cardio class for all ages! Learn fun and energetic choreography and dance technique\, in a fun and sweaty format! There will be a short performance following Friday class!!! \nSNEAKERS REQUIRED \nRSVP: info@elementsbarrefit.com \nSubject: Diva Dance Party \nRSVP should include: Names of Participants and Parent Phone Number \n$150 for all 3 classes \n$55 for a single class \n\n\nWhile the kids are dancing\, Diva Moms can…\nExperience a transformative 10:30 am barre class moms\, located just next door. This progam offers a unique opportunity for moms to rejuvenate their mind and body while their kids enthusiastically participate in a dance class. This synchronized schedule allows moms to prioritize their fitness without compromising their children’s activities\, creating a win-win scenario for all. The invigorating 50-minute workout is specifically designed to provide a holistic refresh for moms minds and body\, empowering moms to tackle the challenges of motherhood with renewed vitality. Embrace Mom Time Out (MT0) and unlock your full potential!
URL:https://elementsbarrefit.com/event/diva-kids-dance-party-part-2/
LOCATION:NY
ATTACH;FMTTYPE=image/png:https://elementsbarrefit.com/wp-content/uploads/2024/08/Diva-Moms-14.png
END:VEVENT
BEGIN:VEVENT
DTSTART;TZID=America/New_York:20240829T103000
DTEND;TZID=America/New_York:20240829T123000
DTSTAMP:20260422T013817
CREATED:20240829T050748Z
LAST-MODIFIED:20240829T051216Z
UID:13360-1724927400-1724934600@elementsbarrefit.com
SUMMARY:10 year + Purist Wellness Event Celebration
DESCRIPTION:In celebration of elements’ 10th anniversary and brand our brand new sag harbor studio\, join us for a day of fitness and wellness\, take class all morning and enjoy our wellness fair from 11:30-12:30\, beauty treatments\, mocktails and more!
URL:https://elementsbarrefit.com/event/10-year-purist-wellness-event-celebration/
LOCATION:NY
END:VEVENT
END:VCALENDAR