BEGIN:VCALENDAR
VERSION:2.0
PRODID:-//Elements Barre Fit - ECPv6.15.20//NONSGML v1.0//EN
CALSCALE:GREGORIAN
METHOD:PUBLISH
X-ORIGINAL-URL:https://elementsbarrefit.com
X-WR-CALDESC:Events for Elements Barre Fit
REFRESH-INTERVAL;VALUE=DURATION:PT1H
X-Robots-Tag:noindex
X-PUBLISHED-TTL:PT1H
BEGIN:VTIMEZONE
TZID:America/New_York
BEGIN:DAYLIGHT
TZOFFSETFROM:-0500
TZOFFSETTO:-0400
TZNAME:EDT
DTSTART:20240310T070000
END:DAYLIGHT
BEGIN:STANDARD
TZOFFSETFROM:-0400
TZOFFSETTO:-0500
TZNAME:EST
DTSTART:20241103T060000
END:STANDARD
BEGIN:DAYLIGHT
TZOFFSETFROM:-0500
TZOFFSETTO:-0400
TZNAME:EDT
DTSTART:20250309T070000
END:DAYLIGHT
BEGIN:STANDARD
TZOFFSETFROM:-0400
TZOFFSETTO:-0500
TZNAME:EST
DTSTART:20251102T060000
END:STANDARD
BEGIN:DAYLIGHT
TZOFFSETFROM:-0500
TZOFFSETTO:-0400
TZNAME:EDT
DTSTART:20260308T070000
END:DAYLIGHT
BEGIN:STANDARD
TZOFFSETFROM:-0400
TZOFFSETTO:-0500
TZNAME:EST
DTSTART:20261101T060000
END:STANDARD
BEGIN:DAYLIGHT
TZOFFSETFROM:-0500
TZOFFSETTO:-0400
TZNAME:EDT
DTSTART:20270314T070000
END:DAYLIGHT
BEGIN:STANDARD
TZOFFSETFROM:-0400
TZOFFSETTO:-0500
TZNAME:EST
DTSTART:20271107T060000
END:STANDARD
END:VTIMEZONE
BEGIN:VEVENT
DTSTART;VALUE=DATE:20251203
DTEND;VALUE=DATE:20251204
DTSTAMP:20260424T104300
CREATED:20251130T055123Z
LAST-MODIFIED:20251201T210106Z
UID:63750-1764720000-1764806399@elementsbarrefit.com
SUMMARY:Elements Art Basel Pop-up
DESCRIPTION:Miami Design District | One Morning Only \n💫 Sweat\, Dance\, and Vibe: One Epic Basel Fitness Morning \nJoin Andrea for a high-energy\, one-time fitness experience that fuses dance\, cardio\, and mat Pilates into a party-like workout. Sweat\, move\, and vibe in full Art Basel style. \nUltra-lux swag included! \n  \nEvent Details:\n\nDate: Wednesday\, December 3\, 2025\nTime: 10:00 AM\nLocation: Glassbox Ironside\, 7520 NE 4th St. Ct\, Miami\, FL 33138\nDress Code: Sneakers required\n\n💫 Limited spots—reserve your mat today! \n 
URL:https://elementsbarrefit.com/event/elements-art-basel-pop-up/
LOCATION:Glassbox Ironside\, 7520 NE 4th St. Ct\, Miami\, FL 33138\, Miami\, FL\, 33138\, United States
ATTACH;FMTTYPE=image/jpeg:https://elementsbarrefit.com/wp-content/uploads/2025/11/andrea_5.9.18_085_v1-1-scaled.jpeg
END:VEVENT
BEGIN:VEVENT
DTSTART;TZID=America/New_York:20260213T093000
DTEND;TZID=America/New_York:20260213T110000
DTSTAMP:20260424T104300
CREATED:20260126T190614Z
LAST-MODIFIED:20260204T214029Z
UID:66587-1770975000-1770980400@elementsbarrefit.com
SUMMARY:JoyLYFT Workshop
DESCRIPTION:Join Andrea & Special Guest Lavinia Errico & Jeff Martin For A Special Movement Experience \nJoin Andrea & Lavinia Errco for a special 90 min workshop event featuring Joy Lyft. A revolutionary movement based on class to reset the mind and body! Lavinia is the founder and creator of JoyLYFT and the co-founder of Equinox. \n  \nRSVP via email \nandrea@elementsbarrefit.com
URL:https://elementsbarrefit.com/event/joylyft_workshop/
LOCATION:Elements UES\, 325 E 65th St\, New York\, NY\, 10065\, United States
ATTACH;FMTTYPE=image/jpeg:https://elementsbarrefit.com/wp-content/uploads/2026/01/JoyLIFT-NYC-Workshop-.jpeg
END:VEVENT
END:VCALENDAR