BEGIN:VCALENDAR
VERSION:2.0
PRODID:-//Elements Barre Fit - ECPv6.15.20//NONSGML v1.0//EN
CALSCALE:GREGORIAN
METHOD:PUBLISH
X-WR-CALNAME:Elements Barre Fit
X-ORIGINAL-URL:https://elementsbarrefit.com
X-WR-CALDESC:Events for Elements Barre Fit
REFRESH-INTERVAL;VALUE=DURATION:PT1H
X-Robots-Tag:noindex
X-PUBLISHED-TTL:PT1H
BEGIN:VTIMEZONE
TZID:America/New_York
BEGIN:DAYLIGHT
TZOFFSETFROM:-0500
TZOFFSETTO:-0400
TZNAME:EDT
DTSTART:20230312T070000
END:DAYLIGHT
BEGIN:STANDARD
TZOFFSETFROM:-0400
TZOFFSETTO:-0500
TZNAME:EST
DTSTART:20231105T060000
END:STANDARD
BEGIN:DAYLIGHT
TZOFFSETFROM:-0500
TZOFFSETTO:-0400
TZNAME:EDT
DTSTART:20240310T070000
END:DAYLIGHT
BEGIN:STANDARD
TZOFFSETFROM:-0400
TZOFFSETTO:-0500
TZNAME:EST
DTSTART:20241103T060000
END:STANDARD
BEGIN:DAYLIGHT
TZOFFSETFROM:-0500
TZOFFSETTO:-0400
TZNAME:EDT
DTSTART:20250309T070000
END:DAYLIGHT
BEGIN:STANDARD
TZOFFSETFROM:-0400
TZOFFSETTO:-0500
TZNAME:EST
DTSTART:20251102T060000
END:STANDARD
END:VTIMEZONE
BEGIN:VEVENT
DTSTART;TZID=America/New_York:20240727T080000
DTEND;TZID=America/New_York:20240727T090000
DTSTAMP:20260424T061054
CREATED:20240721T181103Z
LAST-MODIFIED:20240721T181103Z
UID:12106-1722067200-1722070800@elementsbarrefit.com
SUMMARY:Barre in the Vines
DESCRIPTION:#Rosé #Plié #AllDay \nJoin Andrea for Elements Barre/Toned in the vines at the Wolffer Wine Stand. \n3312 Montauk Highway  \nSagaponack\, NY 11962
URL:https://elementsbarrefit.com/event/barre-in-the-vines/
LOCATION:NY
ATTACH;FMTTYPE=image/png:https://elementsbarrefit.com/wp-content/uploads/2024/07/barre-in-the-vines.png
END:VEVENT
END:VCALENDAR